BEGIN:VCALENDAR
PRODID:-//eluceo/ical//2.0/EN
VERSION:2.0
CALSCALE:GREGORIAN
BEGIN:VEVENT
UID:40dd757ff405def4a3555b6d11d000e5
DTSTAMP:20260423T085831Z
SUMMARY:Souper spectacle "Cœur d'en Rire" organisé par le Rotary Herstal
DESCRIPTION:
URL:https://herstal.rotary2160.org/en/agenda/show/94492
DTSTART;TZID=Europe/Zurich:20260411T180000
DTEND;TZID=Europe/Zurich:20260411T180000
LOCATION:Motorium Saroléa\,  Rue St Lambert 84\, 4040 Herstal
CATEGORIES:Rotary
END:VEVENT
BEGIN:VTIMEZONE
TZID:Europe/Zurich
BEGIN:DAYLIGHT
DTSTART:20260411T180000
TZNAME:CEST
TZOFFSETTO:+0200
TZOFFSETFROM:+0200
END:DAYLIGHT
END:VTIMEZONE
END:VCALENDAR
